BEGIN:VCALENDAR
VERSION:2.0
PRODID:-//Clearwater Baptist Church - ECPv6.15.20//NONSGML v1.0//EN
CALSCALE:GREGORIAN
METHOD:PUBLISH
X-WR-CALNAME:Clearwater Baptist Church
X-ORIGINAL-URL:https://cwb.church
X-WR-CALDESC:Events for Clearwater Baptist Church
REFRESH-INTERVAL;VALUE=DURATION:PT1H
X-Robots-Tag:noindex
X-PUBLISHED-TTL:PT1H
BEGIN:VTIMEZONE
TZID:America/New_York
BEGIN:DAYLIGHT
TZOFFSETFROM:-0500
TZOFFSETTO:-0400
TZNAME:EDT
DTSTART:20260308T070000
END:DAYLIGHT
BEGIN:STANDARD
TZOFFSETFROM:-0400
TZOFFSETTO:-0500
TZNAME:EST
DTSTART:20261101T060000
END:STANDARD
BEGIN:DAYLIGHT
TZOFFSETFROM:-0500
TZOFFSETTO:-0400
TZNAME:EDT
DTSTART:20270314T070000
END:DAYLIGHT
BEGIN:STANDARD
TZOFFSETFROM:-0400
TZOFFSETTO:-0500
TZNAME:EST
DTSTART:20271107T060000
END:STANDARD
BEGIN:DAYLIGHT
TZOFFSETFROM:-0500
TZOFFSETTO:-0400
TZNAME:EDT
DTSTART:20280312T070000
END:DAYLIGHT
BEGIN:STANDARD
TZOFFSETFROM:-0400
TZOFFSETTO:-0500
TZNAME:EST
DTSTART:20281105T060000
END:STANDARD
END:VTIMEZONE
BEGIN:VEVENT
DTSTART;TZID=America/New_York:20270727T183000
DTEND;TZID=America/New_York:20270727T193000
DTSTAMP:20260419T224716
CREATED:20240420T234113Z
LAST-MODIFIED:20240430T022514Z
UID:10000617-1816713000-1816716600@cwb.church
SUMMARY:Bible Study
DESCRIPTION:Clearwater Baptist Church invites you to join our Tuesday night Bible study. Whether you’re a seasoned believer or just starting your spiritual journey\, everyone is welcome to join us as.  We are currently exploring the book of Genesis\, chapter by chapter. \nAre you ready to dive deeper into God’s Word? Join us for thought-provoking discussions\, and let’s challenge ourselves to grow in our walk and relationship with the Lord. We hope to see you there!
URL:https://cwb.church/event/bible-study/2027-07-27/
LOCATION:Clearwater Baptist Church\, 220 N Main Street\, Piedmont\, MO\, 63957\, United States
ATTACH;FMTTYPE=image/jpeg:https://cwb.church/wp-content/uploads/2024/04/BIBLE-STUDY.jpg
END:VEVENT
BEGIN:VEVENT
DTSTART;TZID=America/New_York:20270731T070000
DTEND;TZID=America/New_York:20270731T080000
DTSTAMP:20260419T224716
CREATED:20240609T212051Z
LAST-MODIFIED:20240609T212458Z
UID:10000721-1817017200-1817020800@cwb.church
SUMMARY:Men's Prayer Breakfast
DESCRIPTION:Clearwater Baptist Church invites you to join us on the last Saturday of every month for our Men’s Prayer Breakfast. Whether you’re a member\, have never attended church\, or attend another church\, all are welcome! \nDon’t miss out on this opportunity for strong coffee\, a great breakfast\, fellowship\, and a time of prayer. We hop to see you there!
URL:https://cwb.church/event/mens-prayer-breakfast-2/2027-07-31/
LOCATION:Clearwater Baptist Church\, 220 N Main Street\, Piedmont\, MO\, 63957\, United States
ATTACH;FMTTYPE=image/jpeg:https://cwb.church/wp-content/uploads/2024/04/PRAYER-BREAKFAST.jpg
END:VEVENT
BEGIN:VEVENT
DTSTART;TZID=America/New_York:20270803T183000
DTEND;TZID=America/New_York:20270803T193000
DTSTAMP:20260419T224716
CREATED:20240420T234113Z
LAST-MODIFIED:20240430T022514Z
UID:10000618-1817317800-1817321400@cwb.church
SUMMARY:Bible Study
DESCRIPTION:Clearwater Baptist Church invites you to join our Tuesday night Bible study. Whether you’re a seasoned believer or just starting your spiritual journey\, everyone is welcome to join us as.  We are currently exploring the book of Genesis\, chapter by chapter. \nAre you ready to dive deeper into God’s Word? Join us for thought-provoking discussions\, and let’s challenge ourselves to grow in our walk and relationship with the Lord. We hope to see you there!
URL:https://cwb.church/event/bible-study/2027-08-03/
LOCATION:Clearwater Baptist Church\, 220 N Main Street\, Piedmont\, MO\, 63957\, United States
ATTACH;FMTTYPE=image/jpeg:https://cwb.church/wp-content/uploads/2024/04/BIBLE-STUDY.jpg
END:VEVENT
BEGIN:VEVENT
DTSTART;TZID=America/New_York:20270810T183000
DTEND;TZID=America/New_York:20270810T193000
DTSTAMP:20260419T224716
CREATED:20240420T234113Z
LAST-MODIFIED:20240430T022514Z
UID:10000619-1817922600-1817926200@cwb.church
SUMMARY:Bible Study
DESCRIPTION:Clearwater Baptist Church invites you to join our Tuesday night Bible study. Whether you’re a seasoned believer or just starting your spiritual journey\, everyone is welcome to join us as.  We are currently exploring the book of Genesis\, chapter by chapter. \nAre you ready to dive deeper into God’s Word? Join us for thought-provoking discussions\, and let’s challenge ourselves to grow in our walk and relationship with the Lord. We hope to see you there!
URL:https://cwb.church/event/bible-study/2027-08-10/
LOCATION:Clearwater Baptist Church\, 220 N Main Street\, Piedmont\, MO\, 63957\, United States
ATTACH;FMTTYPE=image/jpeg:https://cwb.church/wp-content/uploads/2024/04/BIBLE-STUDY.jpg
END:VEVENT
BEGIN:VEVENT
DTSTART;TZID=America/New_York:20270817T183000
DTEND;TZID=America/New_York:20270817T193000
DTSTAMP:20260419T224716
CREATED:20240420T234113Z
LAST-MODIFIED:20240430T022514Z
UID:10000620-1818527400-1818531000@cwb.church
SUMMARY:Bible Study
DESCRIPTION:Clearwater Baptist Church invites you to join our Tuesday night Bible study. Whether you’re a seasoned believer or just starting your spiritual journey\, everyone is welcome to join us as.  We are currently exploring the book of Genesis\, chapter by chapter. \nAre you ready to dive deeper into God’s Word? Join us for thought-provoking discussions\, and let’s challenge ourselves to grow in our walk and relationship with the Lord. We hope to see you there!
URL:https://cwb.church/event/bible-study/2027-08-17/
LOCATION:Clearwater Baptist Church\, 220 N Main Street\, Piedmont\, MO\, 63957\, United States
ATTACH;FMTTYPE=image/jpeg:https://cwb.church/wp-content/uploads/2024/04/BIBLE-STUDY.jpg
END:VEVENT
BEGIN:VEVENT
DTSTART;TZID=America/New_York:20270819T110000
DTEND;TZID=America/New_York:20270819T120000
DTSTAMP:20260419T224716
CREATED:20240421T025952Z
LAST-MODIFIED:20240811T174112Z
UID:10000166-1818673200-1818676800@cwb.church
SUMMARY:Senior Lunch
DESCRIPTION:Clearwater Baptist Church warmly invites all seniors to join us for a senior luncheon at our church. This special gathering promises not only great food\, but also a wonderful opportunity to connect and share in fellowship together. \nCome and enjoy the company of like-minded individuals. We welcome all\, so mark your calendars and be part of this occasion at Clearwater Baptist Church!
URL:https://cwb.church/event/senior-lunch/2027-08-19/
LOCATION:Clearwater Baptist Church\, 220 N Main Street\, Piedmont\, MO\, 63957\, United States
ATTACH;FMTTYPE=image/jpeg:https://cwb.church/wp-content/uploads/2024/04/Senior-Lunch.jpg
END:VEVENT
BEGIN:VEVENT
DTSTART;TZID=America/New_York:20270824T183000
DTEND;TZID=America/New_York:20270824T193000
DTSTAMP:20260419T224716
CREATED:20240420T234113Z
LAST-MODIFIED:20240430T022514Z
UID:10000621-1819132200-1819135800@cwb.church
SUMMARY:Bible Study
DESCRIPTION:Clearwater Baptist Church invites you to join our Tuesday night Bible study. Whether you’re a seasoned believer or just starting your spiritual journey\, everyone is welcome to join us as.  We are currently exploring the book of Genesis\, chapter by chapter. \nAre you ready to dive deeper into God’s Word? Join us for thought-provoking discussions\, and let’s challenge ourselves to grow in our walk and relationship with the Lord. We hope to see you there!
URL:https://cwb.church/event/bible-study/2027-08-24/
LOCATION:Clearwater Baptist Church\, 220 N Main Street\, Piedmont\, MO\, 63957\, United States
ATTACH;FMTTYPE=image/jpeg:https://cwb.church/wp-content/uploads/2024/04/BIBLE-STUDY.jpg
END:VEVENT
BEGIN:VEVENT
DTSTART;TZID=America/New_York:20270828T070000
DTEND;TZID=America/New_York:20270828T080000
DTSTAMP:20260419T224716
CREATED:20240609T212051Z
LAST-MODIFIED:20240609T212458Z
UID:10000753-1819436400-1819440000@cwb.church
SUMMARY:Men's Prayer Breakfast
DESCRIPTION:Clearwater Baptist Church invites you to join us on the last Saturday of every month for our Men’s Prayer Breakfast. Whether you’re a member\, have never attended church\, or attend another church\, all are welcome! \nDon’t miss out on this opportunity for strong coffee\, a great breakfast\, fellowship\, and a time of prayer. We hop to see you there!
URL:https://cwb.church/event/mens-prayer-breakfast-2/2027-08-28/
LOCATION:Clearwater Baptist Church\, 220 N Main Street\, Piedmont\, MO\, 63957\, United States
ATTACH;FMTTYPE=image/jpeg:https://cwb.church/wp-content/uploads/2024/04/PRAYER-BREAKFAST.jpg
END:VEVENT
BEGIN:VEVENT
DTSTART;TZID=America/New_York:20270831T183000
DTEND;TZID=America/New_York:20270831T193000
DTSTAMP:20260419T224716
CREATED:20240420T234113Z
LAST-MODIFIED:20240430T022514Z
UID:10000622-1819737000-1819740600@cwb.church
SUMMARY:Bible Study
DESCRIPTION:Clearwater Baptist Church invites you to join our Tuesday night Bible study. Whether you’re a seasoned believer or just starting your spiritual journey\, everyone is welcome to join us as.  We are currently exploring the book of Genesis\, chapter by chapter. \nAre you ready to dive deeper into God’s Word? Join us for thought-provoking discussions\, and let’s challenge ourselves to grow in our walk and relationship with the Lord. We hope to see you there!
URL:https://cwb.church/event/bible-study/2027-08-31/
LOCATION:Clearwater Baptist Church\, 220 N Main Street\, Piedmont\, MO\, 63957\, United States
ATTACH;FMTTYPE=image/jpeg:https://cwb.church/wp-content/uploads/2024/04/BIBLE-STUDY.jpg
END:VEVENT
BEGIN:VEVENT
DTSTART;TZID=America/New_York:20270907T183000
DTEND;TZID=America/New_York:20270907T193000
DTSTAMP:20260419T224716
CREATED:20240420T234113Z
LAST-MODIFIED:20240430T022514Z
UID:10000623-1820341800-1820345400@cwb.church
SUMMARY:Bible Study
DESCRIPTION:Clearwater Baptist Church invites you to join our Tuesday night Bible study. Whether you’re a seasoned believer or just starting your spiritual journey\, everyone is welcome to join us as.  We are currently exploring the book of Genesis\, chapter by chapter. \nAre you ready to dive deeper into God’s Word? Join us for thought-provoking discussions\, and let’s challenge ourselves to grow in our walk and relationship with the Lord. We hope to see you there!
URL:https://cwb.church/event/bible-study/2027-09-07/
LOCATION:Clearwater Baptist Church\, 220 N Main Street\, Piedmont\, MO\, 63957\, United States
ATTACH;FMTTYPE=image/jpeg:https://cwb.church/wp-content/uploads/2024/04/BIBLE-STUDY.jpg
END:VEVENT
BEGIN:VEVENT
DTSTART;TZID=America/New_York:20270914T183000
DTEND;TZID=America/New_York:20270914T193000
DTSTAMP:20260419T224716
CREATED:20240420T234113Z
LAST-MODIFIED:20240430T022514Z
UID:10000624-1820946600-1820950200@cwb.church
SUMMARY:Bible Study
DESCRIPTION:Clearwater Baptist Church invites you to join our Tuesday night Bible study. Whether you’re a seasoned believer or just starting your spiritual journey\, everyone is welcome to join us as.  We are currently exploring the book of Genesis\, chapter by chapter. \nAre you ready to dive deeper into God’s Word? Join us for thought-provoking discussions\, and let’s challenge ourselves to grow in our walk and relationship with the Lord. We hope to see you there!
URL:https://cwb.church/event/bible-study/2027-09-14/
LOCATION:Clearwater Baptist Church\, 220 N Main Street\, Piedmont\, MO\, 63957\, United States
ATTACH;FMTTYPE=image/jpeg:https://cwb.church/wp-content/uploads/2024/04/BIBLE-STUDY.jpg
END:VEVENT
BEGIN:VEVENT
DTSTART;TZID=America/New_York:20270916T110000
DTEND;TZID=America/New_York:20270916T120000
DTSTAMP:20260419T224716
CREATED:20240421T025952Z
LAST-MODIFIED:20240811T174112Z
UID:10000167-1821092400-1821096000@cwb.church
SUMMARY:Senior Lunch
DESCRIPTION:Clearwater Baptist Church warmly invites all seniors to join us for a senior luncheon at our church. This special gathering promises not only great food\, but also a wonderful opportunity to connect and share in fellowship together. \nCome and enjoy the company of like-minded individuals. We welcome all\, so mark your calendars and be part of this occasion at Clearwater Baptist Church!
URL:https://cwb.church/event/senior-lunch/2027-09-16/
LOCATION:Clearwater Baptist Church\, 220 N Main Street\, Piedmont\, MO\, 63957\, United States
ATTACH;FMTTYPE=image/jpeg:https://cwb.church/wp-content/uploads/2024/04/Senior-Lunch.jpg
END:VEVENT
BEGIN:VEVENT
DTSTART;TZID=America/New_York:20270921T183000
DTEND;TZID=America/New_York:20270921T193000
DTSTAMP:20260419T224716
CREATED:20240420T234113Z
LAST-MODIFIED:20240430T022514Z
UID:10000625-1821551400-1821555000@cwb.church
SUMMARY:Bible Study
DESCRIPTION:Clearwater Baptist Church invites you to join our Tuesday night Bible study. Whether you’re a seasoned believer or just starting your spiritual journey\, everyone is welcome to join us as.  We are currently exploring the book of Genesis\, chapter by chapter. \nAre you ready to dive deeper into God’s Word? Join us for thought-provoking discussions\, and let’s challenge ourselves to grow in our walk and relationship with the Lord. We hope to see you there!
URL:https://cwb.church/event/bible-study/2027-09-21/
LOCATION:Clearwater Baptist Church\, 220 N Main Street\, Piedmont\, MO\, 63957\, United States
ATTACH;FMTTYPE=image/jpeg:https://cwb.church/wp-content/uploads/2024/04/BIBLE-STUDY.jpg
END:VEVENT
BEGIN:VEVENT
DTSTART;TZID=America/New_York:20270925T070000
DTEND;TZID=America/New_York:20270925T080000
DTSTAMP:20260419T224716
CREATED:20240609T212051Z
LAST-MODIFIED:20240609T212458Z
UID:10000754-1821855600-1821859200@cwb.church
SUMMARY:Men's Prayer Breakfast
DESCRIPTION:Clearwater Baptist Church invites you to join us on the last Saturday of every month for our Men’s Prayer Breakfast. Whether you’re a member\, have never attended church\, or attend another church\, all are welcome! \nDon’t miss out on this opportunity for strong coffee\, a great breakfast\, fellowship\, and a time of prayer. We hop to see you there!
URL:https://cwb.church/event/mens-prayer-breakfast-2/2027-09-25/
LOCATION:Clearwater Baptist Church\, 220 N Main Street\, Piedmont\, MO\, 63957\, United States
ATTACH;FMTTYPE=image/jpeg:https://cwb.church/wp-content/uploads/2024/04/PRAYER-BREAKFAST.jpg
END:VEVENT
BEGIN:VEVENT
DTSTART;TZID=America/New_York:20270928T183000
DTEND;TZID=America/New_York:20270928T193000
DTSTAMP:20260419T224716
CREATED:20240420T234113Z
LAST-MODIFIED:20240430T022514Z
UID:10000626-1822156200-1822159800@cwb.church
SUMMARY:Bible Study
DESCRIPTION:Clearwater Baptist Church invites you to join our Tuesday night Bible study. Whether you’re a seasoned believer or just starting your spiritual journey\, everyone is welcome to join us as.  We are currently exploring the book of Genesis\, chapter by chapter. \nAre you ready to dive deeper into God’s Word? Join us for thought-provoking discussions\, and let’s challenge ourselves to grow in our walk and relationship with the Lord. We hope to see you there!
URL:https://cwb.church/event/bible-study/2027-09-28/
LOCATION:Clearwater Baptist Church\, 220 N Main Street\, Piedmont\, MO\, 63957\, United States
ATTACH;FMTTYPE=image/jpeg:https://cwb.church/wp-content/uploads/2024/04/BIBLE-STUDY.jpg
END:VEVENT
BEGIN:VEVENT
DTSTART;TZID=America/New_York:20271005T183000
DTEND;TZID=America/New_York:20271005T193000
DTSTAMP:20260419T224716
CREATED:20240420T234113Z
LAST-MODIFIED:20240430T022514Z
UID:10000627-1822761000-1822764600@cwb.church
SUMMARY:Bible Study
DESCRIPTION:Clearwater Baptist Church invites you to join our Tuesday night Bible study. Whether you’re a seasoned believer or just starting your spiritual journey\, everyone is welcome to join us as.  We are currently exploring the book of Genesis\, chapter by chapter. \nAre you ready to dive deeper into God’s Word? Join us for thought-provoking discussions\, and let’s challenge ourselves to grow in our walk and relationship with the Lord. We hope to see you there!
URL:https://cwb.church/event/bible-study/2027-10-05/
LOCATION:Clearwater Baptist Church\, 220 N Main Street\, Piedmont\, MO\, 63957\, United States
ATTACH;FMTTYPE=image/jpeg:https://cwb.church/wp-content/uploads/2024/04/BIBLE-STUDY.jpg
END:VEVENT
BEGIN:VEVENT
DTSTART;TZID=America/New_York:20271012T183000
DTEND;TZID=America/New_York:20271012T193000
DTSTAMP:20260419T224716
CREATED:20240420T234113Z
LAST-MODIFIED:20240430T022514Z
UID:10000628-1823365800-1823369400@cwb.church
SUMMARY:Bible Study
DESCRIPTION:Clearwater Baptist Church invites you to join our Tuesday night Bible study. Whether you’re a seasoned believer or just starting your spiritual journey\, everyone is welcome to join us as.  We are currently exploring the book of Genesis\, chapter by chapter. \nAre you ready to dive deeper into God’s Word? Join us for thought-provoking discussions\, and let’s challenge ourselves to grow in our walk and relationship with the Lord. We hope to see you there!
URL:https://cwb.church/event/bible-study/2027-10-12/
LOCATION:Clearwater Baptist Church\, 220 N Main Street\, Piedmont\, MO\, 63957\, United States
ATTACH;FMTTYPE=image/jpeg:https://cwb.church/wp-content/uploads/2024/04/BIBLE-STUDY.jpg
END:VEVENT
BEGIN:VEVENT
DTSTART;TZID=America/New_York:20271019T183000
DTEND;TZID=America/New_York:20271019T193000
DTSTAMP:20260419T224716
CREATED:20240420T234113Z
LAST-MODIFIED:20240430T022514Z
UID:10000629-1823970600-1823974200@cwb.church
SUMMARY:Bible Study
DESCRIPTION:Clearwater Baptist Church invites you to join our Tuesday night Bible study. Whether you’re a seasoned believer or just starting your spiritual journey\, everyone is welcome to join us as.  We are currently exploring the book of Genesis\, chapter by chapter. \nAre you ready to dive deeper into God’s Word? Join us for thought-provoking discussions\, and let’s challenge ourselves to grow in our walk and relationship with the Lord. We hope to see you there!
URL:https://cwb.church/event/bible-study/2027-10-19/
LOCATION:Clearwater Baptist Church\, 220 N Main Street\, Piedmont\, MO\, 63957\, United States
ATTACH;FMTTYPE=image/jpeg:https://cwb.church/wp-content/uploads/2024/04/BIBLE-STUDY.jpg
END:VEVENT
BEGIN:VEVENT
DTSTART;TZID=America/New_York:20271021T110000
DTEND;TZID=America/New_York:20271021T120000
DTSTAMP:20260419T224716
CREATED:20240421T025952Z
LAST-MODIFIED:20240811T174112Z
UID:10000168-1824116400-1824120000@cwb.church
SUMMARY:Senior Lunch
DESCRIPTION:Clearwater Baptist Church warmly invites all seniors to join us for a senior luncheon at our church. This special gathering promises not only great food\, but also a wonderful opportunity to connect and share in fellowship together. \nCome and enjoy the company of like-minded individuals. We welcome all\, so mark your calendars and be part of this occasion at Clearwater Baptist Church!
URL:https://cwb.church/event/senior-lunch/2027-10-21/
LOCATION:Clearwater Baptist Church\, 220 N Main Street\, Piedmont\, MO\, 63957\, United States
ATTACH;FMTTYPE=image/jpeg:https://cwb.church/wp-content/uploads/2024/04/Senior-Lunch.jpg
END:VEVENT
BEGIN:VEVENT
DTSTART;TZID=America/New_York:20271026T183000
DTEND;TZID=America/New_York:20271026T193000
DTSTAMP:20260419T224717
CREATED:20240420T234113Z
LAST-MODIFIED:20240430T022514Z
UID:10000630-1824575400-1824579000@cwb.church
SUMMARY:Bible Study
DESCRIPTION:Clearwater Baptist Church invites you to join our Tuesday night Bible study. Whether you’re a seasoned believer or just starting your spiritual journey\, everyone is welcome to join us as.  We are currently exploring the book of Genesis\, chapter by chapter. \nAre you ready to dive deeper into God’s Word? Join us for thought-provoking discussions\, and let’s challenge ourselves to grow in our walk and relationship with the Lord. We hope to see you there!
URL:https://cwb.church/event/bible-study/2027-10-26/
LOCATION:Clearwater Baptist Church\, 220 N Main Street\, Piedmont\, MO\, 63957\, United States
ATTACH;FMTTYPE=image/jpeg:https://cwb.church/wp-content/uploads/2024/04/BIBLE-STUDY.jpg
END:VEVENT
BEGIN:VEVENT
DTSTART;TZID=America/New_York:20271030T070000
DTEND;TZID=America/New_York:20271030T080000
DTSTAMP:20260419T224717
CREATED:20240609T212051Z
LAST-MODIFIED:20240609T212458Z
UID:10000722-1824879600-1824883200@cwb.church
SUMMARY:Men's Prayer Breakfast
DESCRIPTION:Clearwater Baptist Church invites you to join us on the last Saturday of every month for our Men’s Prayer Breakfast. Whether you’re a member\, have never attended church\, or attend another church\, all are welcome! \nDon’t miss out on this opportunity for strong coffee\, a great breakfast\, fellowship\, and a time of prayer. We hop to see you there!
URL:https://cwb.church/event/mens-prayer-breakfast-2/2027-10-30/
LOCATION:Clearwater Baptist Church\, 220 N Main Street\, Piedmont\, MO\, 63957\, United States
ATTACH;FMTTYPE=image/jpeg:https://cwb.church/wp-content/uploads/2024/04/PRAYER-BREAKFAST.jpg
END:VEVENT
BEGIN:VEVENT
DTSTART;TZID=America/New_York:20271102T183000
DTEND;TZID=America/New_York:20271102T193000
DTSTAMP:20260419T224717
CREATED:20240420T234113Z
LAST-MODIFIED:20240430T022514Z
UID:10000631-1825180200-1825183800@cwb.church
SUMMARY:Bible Study
DESCRIPTION:Clearwater Baptist Church invites you to join our Tuesday night Bible study. Whether you’re a seasoned believer or just starting your spiritual journey\, everyone is welcome to join us as.  We are currently exploring the book of Genesis\, chapter by chapter. \nAre you ready to dive deeper into God’s Word? Join us for thought-provoking discussions\, and let’s challenge ourselves to grow in our walk and relationship with the Lord. We hope to see you there!
URL:https://cwb.church/event/bible-study/2027-11-02/
LOCATION:Clearwater Baptist Church\, 220 N Main Street\, Piedmont\, MO\, 63957\, United States
ATTACH;FMTTYPE=image/jpeg:https://cwb.church/wp-content/uploads/2024/04/BIBLE-STUDY.jpg
END:VEVENT
BEGIN:VEVENT
DTSTART;TZID=America/New_York:20271109T183000
DTEND;TZID=America/New_York:20271109T193000
DTSTAMP:20260419T224717
CREATED:20240420T234113Z
LAST-MODIFIED:20240430T022514Z
UID:10000632-1825785000-1825788600@cwb.church
SUMMARY:Bible Study
DESCRIPTION:Clearwater Baptist Church invites you to join our Tuesday night Bible study. Whether you’re a seasoned believer or just starting your spiritual journey\, everyone is welcome to join us as.  We are currently exploring the book of Genesis\, chapter by chapter. \nAre you ready to dive deeper into God’s Word? Join us for thought-provoking discussions\, and let’s challenge ourselves to grow in our walk and relationship with the Lord. We hope to see you there!
URL:https://cwb.church/event/bible-study/2027-11-09/
LOCATION:Clearwater Baptist Church\, 220 N Main Street\, Piedmont\, MO\, 63957\, United States
ATTACH;FMTTYPE=image/jpeg:https://cwb.church/wp-content/uploads/2024/04/BIBLE-STUDY.jpg
END:VEVENT
BEGIN:VEVENT
DTSTART;TZID=America/New_York:20271116T183000
DTEND;TZID=America/New_York:20271116T193000
DTSTAMP:20260419T224717
CREATED:20240420T234113Z
LAST-MODIFIED:20240430T022514Z
UID:10000633-1826389800-1826393400@cwb.church
SUMMARY:Bible Study
DESCRIPTION:Clearwater Baptist Church invites you to join our Tuesday night Bible study. Whether you’re a seasoned believer or just starting your spiritual journey\, everyone is welcome to join us as.  We are currently exploring the book of Genesis\, chapter by chapter. \nAre you ready to dive deeper into God’s Word? Join us for thought-provoking discussions\, and let’s challenge ourselves to grow in our walk and relationship with the Lord. We hope to see you there!
URL:https://cwb.church/event/bible-study/2027-11-16/
LOCATION:Clearwater Baptist Church\, 220 N Main Street\, Piedmont\, MO\, 63957\, United States
ATTACH;FMTTYPE=image/jpeg:https://cwb.church/wp-content/uploads/2024/04/BIBLE-STUDY.jpg
END:VEVENT
BEGIN:VEVENT
DTSTART;TZID=America/New_York:20271118T110000
DTEND;TZID=America/New_York:20271118T120000
DTSTAMP:20260419T224717
CREATED:20240421T025952Z
LAST-MODIFIED:20240811T174112Z
UID:10000169-1826535600-1826539200@cwb.church
SUMMARY:Senior Lunch
DESCRIPTION:Clearwater Baptist Church warmly invites all seniors to join us for a senior luncheon at our church. This special gathering promises not only great food\, but also a wonderful opportunity to connect and share in fellowship together. \nCome and enjoy the company of like-minded individuals. We welcome all\, so mark your calendars and be part of this occasion at Clearwater Baptist Church!
URL:https://cwb.church/event/senior-lunch/2027-11-18/
LOCATION:Clearwater Baptist Church\, 220 N Main Street\, Piedmont\, MO\, 63957\, United States
ATTACH;FMTTYPE=image/jpeg:https://cwb.church/wp-content/uploads/2024/04/Senior-Lunch.jpg
END:VEVENT
BEGIN:VEVENT
DTSTART;TZID=America/New_York:20271123T183000
DTEND;TZID=America/New_York:20271123T193000
DTSTAMP:20260419T224717
CREATED:20240420T234113Z
LAST-MODIFIED:20240430T022514Z
UID:10000634-1826994600-1826998200@cwb.church
SUMMARY:Bible Study
DESCRIPTION:Clearwater Baptist Church invites you to join our Tuesday night Bible study. Whether you’re a seasoned believer or just starting your spiritual journey\, everyone is welcome to join us as.  We are currently exploring the book of Genesis\, chapter by chapter. \nAre you ready to dive deeper into God’s Word? Join us for thought-provoking discussions\, and let’s challenge ourselves to grow in our walk and relationship with the Lord. We hope to see you there!
URL:https://cwb.church/event/bible-study/2027-11-23/
LOCATION:Clearwater Baptist Church\, 220 N Main Street\, Piedmont\, MO\, 63957\, United States
ATTACH;FMTTYPE=image/jpeg:https://cwb.church/wp-content/uploads/2024/04/BIBLE-STUDY.jpg
END:VEVENT
BEGIN:VEVENT
DTSTART;TZID=America/New_York:20271127T070000
DTEND;TZID=America/New_York:20271127T080000
DTSTAMP:20260419T224717
CREATED:20240609T212051Z
LAST-MODIFIED:20240609T212458Z
UID:10000755-1827298800-1827302400@cwb.church
SUMMARY:Men's Prayer Breakfast
DESCRIPTION:Clearwater Baptist Church invites you to join us on the last Saturday of every month for our Men’s Prayer Breakfast. Whether you’re a member\, have never attended church\, or attend another church\, all are welcome! \nDon’t miss out on this opportunity for strong coffee\, a great breakfast\, fellowship\, and a time of prayer. We hop to see you there!
URL:https://cwb.church/event/mens-prayer-breakfast-2/2027-11-27/
LOCATION:Clearwater Baptist Church\, 220 N Main Street\, Piedmont\, MO\, 63957\, United States
ATTACH;FMTTYPE=image/jpeg:https://cwb.church/wp-content/uploads/2024/04/PRAYER-BREAKFAST.jpg
END:VEVENT
BEGIN:VEVENT
DTSTART;TZID=America/New_York:20271130T183000
DTEND;TZID=America/New_York:20271130T193000
DTSTAMP:20260419T224717
CREATED:20240420T234113Z
LAST-MODIFIED:20240430T022514Z
UID:10000635-1827599400-1827603000@cwb.church
SUMMARY:Bible Study
DESCRIPTION:Clearwater Baptist Church invites you to join our Tuesday night Bible study. Whether you’re a seasoned believer or just starting your spiritual journey\, everyone is welcome to join us as.  We are currently exploring the book of Genesis\, chapter by chapter. \nAre you ready to dive deeper into God’s Word? Join us for thought-provoking discussions\, and let’s challenge ourselves to grow in our walk and relationship with the Lord. We hope to see you there!
URL:https://cwb.church/event/bible-study/2027-11-30/
LOCATION:Clearwater Baptist Church\, 220 N Main Street\, Piedmont\, MO\, 63957\, United States
ATTACH;FMTTYPE=image/jpeg:https://cwb.church/wp-content/uploads/2024/04/BIBLE-STUDY.jpg
END:VEVENT
BEGIN:VEVENT
DTSTART;TZID=America/New_York:20271207T183000
DTEND;TZID=America/New_York:20271207T193000
DTSTAMP:20260419T224717
CREATED:20240420T234113Z
LAST-MODIFIED:20240430T022514Z
UID:10000636-1828204200-1828207800@cwb.church
SUMMARY:Bible Study
DESCRIPTION:Clearwater Baptist Church invites you to join our Tuesday night Bible study. Whether you’re a seasoned believer or just starting your spiritual journey\, everyone is welcome to join us as.  We are currently exploring the book of Genesis\, chapter by chapter. \nAre you ready to dive deeper into God’s Word? Join us for thought-provoking discussions\, and let’s challenge ourselves to grow in our walk and relationship with the Lord. We hope to see you there!
URL:https://cwb.church/event/bible-study/2027-12-07/
LOCATION:Clearwater Baptist Church\, 220 N Main Street\, Piedmont\, MO\, 63957\, United States
ATTACH;FMTTYPE=image/jpeg:https://cwb.church/wp-content/uploads/2024/04/BIBLE-STUDY.jpg
END:VEVENT
BEGIN:VEVENT
DTSTART;TZID=America/New_York:20271214T183000
DTEND;TZID=America/New_York:20271214T193000
DTSTAMP:20260419T224717
CREATED:20240420T234113Z
LAST-MODIFIED:20240430T022514Z
UID:10000637-1828809000-1828812600@cwb.church
SUMMARY:Bible Study
DESCRIPTION:Clearwater Baptist Church invites you to join our Tuesday night Bible study. Whether you’re a seasoned believer or just starting your spiritual journey\, everyone is welcome to join us as.  We are currently exploring the book of Genesis\, chapter by chapter. \nAre you ready to dive deeper into God’s Word? Join us for thought-provoking discussions\, and let’s challenge ourselves to grow in our walk and relationship with the Lord. We hope to see you there!
URL:https://cwb.church/event/bible-study/2027-12-14/
LOCATION:Clearwater Baptist Church\, 220 N Main Street\, Piedmont\, MO\, 63957\, United States
ATTACH;FMTTYPE=image/jpeg:https://cwb.church/wp-content/uploads/2024/04/BIBLE-STUDY.jpg
END:VEVENT
END:VCALENDAR