BEGIN:VCALENDAR
VERSION:2.0
PRODID:-//Clearwater Baptist Church - ECPv6.15.20//NONSGML v1.0//EN
CALSCALE:GREGORIAN
METHOD:PUBLISH
X-WR-CALNAME:Clearwater Baptist Church
X-ORIGINAL-URL:https://cwb.church
X-WR-CALDESC:Events for Clearwater Baptist Church
REFRESH-INTERVAL;VALUE=DURATION:PT1H
X-Robots-Tag:noindex
X-PUBLISHED-TTL:PT1H
BEGIN:VTIMEZONE
TZID:America/New_York
BEGIN:DAYLIGHT
TZOFFSETFROM:-0500
TZOFFSETTO:-0400
TZNAME:EDT
DTSTART:20280312T070000
END:DAYLIGHT
BEGIN:STANDARD
TZOFFSETFROM:-0400
TZOFFSETTO:-0500
TZNAME:EST
DTSTART:20281105T060000
END:STANDARD
BEGIN:DAYLIGHT
TZOFFSETFROM:-0500
TZOFFSETTO:-0400
TZNAME:EDT
DTSTART:20290311T070000
END:DAYLIGHT
BEGIN:STANDARD
TZOFFSETFROM:-0400
TZOFFSETTO:-0500
TZNAME:EST
DTSTART:20291104T060000
END:STANDARD
BEGIN:DAYLIGHT
TZOFFSETFROM:-0500
TZOFFSETTO:-0400
TZNAME:EDT
DTSTART:20300310T070000
END:DAYLIGHT
BEGIN:STANDARD
TZOFFSETFROM:-0400
TZOFFSETTO:-0500
TZNAME:EST
DTSTART:20301103T060000
END:STANDARD
END:VTIMEZONE
BEGIN:VEVENT
DTSTART;TZID=America/New_York:20290130T183000
DTEND;TZID=America/New_York:20290130T193000
DTSTAMP:20260421T131716
CREATED:20240420T234113Z
LAST-MODIFIED:20240430T022514Z
UID:10000696-1864492200-1864495800@cwb.church
SUMMARY:Bible Study
DESCRIPTION:Clearwater Baptist Church invites you to join our Tuesday night Bible study. Whether you’re a seasoned believer or just starting your spiritual journey\, everyone is welcome to join us as.  We are currently exploring the book of Genesis\, chapter by chapter. \nAre you ready to dive deeper into God’s Word? Join us for thought-provoking discussions\, and let’s challenge ourselves to grow in our walk and relationship with the Lord. We hope to see you there!
URL:https://cwb.church/event/bible-study/2029-01-30/
LOCATION:Clearwater Baptist Church\, 220 N Main Street\, Piedmont\, MO\, 63957\, United States
ATTACH;FMTTYPE=image/jpeg:https://cwb.church/wp-content/uploads/2024/04/BIBLE-STUDY.jpg
END:VEVENT
BEGIN:VEVENT
DTSTART;TZID=America/New_York:20290206T183000
DTEND;TZID=America/New_York:20290206T193000
DTSTAMP:20260421T131716
CREATED:20240420T234113Z
LAST-MODIFIED:20240430T022514Z
UID:10000697-1865097000-1865100600@cwb.church
SUMMARY:Bible Study
DESCRIPTION:Clearwater Baptist Church invites you to join our Tuesday night Bible study. Whether you’re a seasoned believer or just starting your spiritual journey\, everyone is welcome to join us as.  We are currently exploring the book of Genesis\, chapter by chapter. \nAre you ready to dive deeper into God’s Word? Join us for thought-provoking discussions\, and let’s challenge ourselves to grow in our walk and relationship with the Lord. We hope to see you there!
URL:https://cwb.church/event/bible-study/2029-02-06/
LOCATION:Clearwater Baptist Church\, 220 N Main Street\, Piedmont\, MO\, 63957\, United States
ATTACH;FMTTYPE=image/jpeg:https://cwb.church/wp-content/uploads/2024/04/BIBLE-STUDY.jpg
END:VEVENT
BEGIN:VEVENT
DTSTART;TZID=America/New_York:20290213T183000
DTEND;TZID=America/New_York:20290213T193000
DTSTAMP:20260421T131716
CREATED:20240420T234113Z
LAST-MODIFIED:20240430T022514Z
UID:10000698-1865701800-1865705400@cwb.church
SUMMARY:Bible Study
DESCRIPTION:Clearwater Baptist Church invites you to join our Tuesday night Bible study. Whether you’re a seasoned believer or just starting your spiritual journey\, everyone is welcome to join us as.  We are currently exploring the book of Genesis\, chapter by chapter. \nAre you ready to dive deeper into God’s Word? Join us for thought-provoking discussions\, and let’s challenge ourselves to grow in our walk and relationship with the Lord. We hope to see you there!
URL:https://cwb.church/event/bible-study/2029-02-13/
LOCATION:Clearwater Baptist Church\, 220 N Main Street\, Piedmont\, MO\, 63957\, United States
ATTACH;FMTTYPE=image/jpeg:https://cwb.church/wp-content/uploads/2024/04/BIBLE-STUDY.jpg
END:VEVENT
BEGIN:VEVENT
DTSTART;TZID=America/New_York:20290215T110000
DTEND;TZID=America/New_York:20290215T120000
DTSTAMP:20260421T131716
CREATED:20240421T025952Z
LAST-MODIFIED:20240811T174112Z
UID:10000184-1865847600-1865851200@cwb.church
SUMMARY:Senior Lunch
DESCRIPTION:Clearwater Baptist Church warmly invites all seniors to join us for a senior luncheon at our church. This special gathering promises not only great food\, but also a wonderful opportunity to connect and share in fellowship together. \nCome and enjoy the company of like-minded individuals. We welcome all\, so mark your calendars and be part of this occasion at Clearwater Baptist Church!
URL:https://cwb.church/event/senior-lunch/2029-02-15/
LOCATION:Clearwater Baptist Church\, 220 N Main Street\, Piedmont\, MO\, 63957\, United States
ATTACH;FMTTYPE=image/jpeg:https://cwb.church/wp-content/uploads/2024/04/Senior-Lunch.jpg
END:VEVENT
BEGIN:VEVENT
DTSTART;TZID=America/New_York:20290220T183000
DTEND;TZID=America/New_York:20290220T193000
DTSTAMP:20260421T131716
CREATED:20240420T234113Z
LAST-MODIFIED:20240430T022514Z
UID:10000699-1866306600-1866310200@cwb.church
SUMMARY:Bible Study
DESCRIPTION:Clearwater Baptist Church invites you to join our Tuesday night Bible study. Whether you’re a seasoned believer or just starting your spiritual journey\, everyone is welcome to join us as.  We are currently exploring the book of Genesis\, chapter by chapter. \nAre you ready to dive deeper into God’s Word? Join us for thought-provoking discussions\, and let’s challenge ourselves to grow in our walk and relationship with the Lord. We hope to see you there!
URL:https://cwb.church/event/bible-study/2029-02-20/
LOCATION:Clearwater Baptist Church\, 220 N Main Street\, Piedmont\, MO\, 63957\, United States
ATTACH;FMTTYPE=image/jpeg:https://cwb.church/wp-content/uploads/2024/04/BIBLE-STUDY.jpg
END:VEVENT
BEGIN:VEVENT
DTSTART;TZID=America/New_York:20290224T070000
DTEND;TZID=America/New_York:20290224T080000
DTSTAMP:20260421T131716
CREATED:20240609T212051Z
LAST-MODIFIED:20240609T212458Z
UID:10000765-1866610800-1866614400@cwb.church
SUMMARY:Men's Prayer Breakfast
DESCRIPTION:Clearwater Baptist Church invites you to join us on the last Saturday of every month for our Men’s Prayer Breakfast. Whether you’re a member\, have never attended church\, or attend another church\, all are welcome! \nDon’t miss out on this opportunity for strong coffee\, a great breakfast\, fellowship\, and a time of prayer. We hop to see you there!
URL:https://cwb.church/event/mens-prayer-breakfast-2/2029-02-24/
LOCATION:Clearwater Baptist Church\, 220 N Main Street\, Piedmont\, MO\, 63957\, United States
ATTACH;FMTTYPE=image/jpeg:https://cwb.church/wp-content/uploads/2024/04/PRAYER-BREAKFAST.jpg
END:VEVENT
BEGIN:VEVENT
DTSTART;TZID=America/New_York:20290227T183000
DTEND;TZID=America/New_York:20290227T193000
DTSTAMP:20260421T131716
CREATED:20240420T234113Z
LAST-MODIFIED:20240430T022514Z
UID:10000700-1866911400-1866915000@cwb.church
SUMMARY:Bible Study
DESCRIPTION:Clearwater Baptist Church invites you to join our Tuesday night Bible study. Whether you’re a seasoned believer or just starting your spiritual journey\, everyone is welcome to join us as.  We are currently exploring the book of Genesis\, chapter by chapter. \nAre you ready to dive deeper into God’s Word? Join us for thought-provoking discussions\, and let’s challenge ourselves to grow in our walk and relationship with the Lord. We hope to see you there!
URL:https://cwb.church/event/bible-study/2029-02-27/
LOCATION:Clearwater Baptist Church\, 220 N Main Street\, Piedmont\, MO\, 63957\, United States
ATTACH;FMTTYPE=image/jpeg:https://cwb.church/wp-content/uploads/2024/04/BIBLE-STUDY.jpg
END:VEVENT
BEGIN:VEVENT
DTSTART;TZID=America/New_York:20290306T183000
DTEND;TZID=America/New_York:20290306T193000
DTSTAMP:20260421T131716
CREATED:20240420T234113Z
LAST-MODIFIED:20240430T022514Z
UID:10000701-1867516200-1867519800@cwb.church
SUMMARY:Bible Study
DESCRIPTION:Clearwater Baptist Church invites you to join our Tuesday night Bible study. Whether you’re a seasoned believer or just starting your spiritual journey\, everyone is welcome to join us as.  We are currently exploring the book of Genesis\, chapter by chapter. \nAre you ready to dive deeper into God’s Word? Join us for thought-provoking discussions\, and let’s challenge ourselves to grow in our walk and relationship with the Lord. We hope to see you there!
URL:https://cwb.church/event/bible-study/2029-03-06/
LOCATION:Clearwater Baptist Church\, 220 N Main Street\, Piedmont\, MO\, 63957\, United States
ATTACH;FMTTYPE=image/jpeg:https://cwb.church/wp-content/uploads/2024/04/BIBLE-STUDY.jpg
END:VEVENT
BEGIN:VEVENT
DTSTART;TZID=America/New_York:20290313T183000
DTEND;TZID=America/New_York:20290313T193000
DTSTAMP:20260421T131716
CREATED:20240420T234113Z
LAST-MODIFIED:20240430T022514Z
UID:10000702-1868121000-1868124600@cwb.church
SUMMARY:Bible Study
DESCRIPTION:Clearwater Baptist Church invites you to join our Tuesday night Bible study. Whether you’re a seasoned believer or just starting your spiritual journey\, everyone is welcome to join us as.  We are currently exploring the book of Genesis\, chapter by chapter. \nAre you ready to dive deeper into God’s Word? Join us for thought-provoking discussions\, and let’s challenge ourselves to grow in our walk and relationship with the Lord. We hope to see you there!
URL:https://cwb.church/event/bible-study/2029-03-13/
LOCATION:Clearwater Baptist Church\, 220 N Main Street\, Piedmont\, MO\, 63957\, United States
ATTACH;FMTTYPE=image/jpeg:https://cwb.church/wp-content/uploads/2024/04/BIBLE-STUDY.jpg
END:VEVENT
BEGIN:VEVENT
DTSTART;TZID=America/New_York:20290315T110000
DTEND;TZID=America/New_York:20290315T120000
DTSTAMP:20260421T131716
CREATED:20240421T025952Z
LAST-MODIFIED:20240811T174112Z
UID:10000185-1868266800-1868270400@cwb.church
SUMMARY:Senior Lunch
DESCRIPTION:Clearwater Baptist Church warmly invites all seniors to join us for a senior luncheon at our church. This special gathering promises not only great food\, but also a wonderful opportunity to connect and share in fellowship together. \nCome and enjoy the company of like-minded individuals. We welcome all\, so mark your calendars and be part of this occasion at Clearwater Baptist Church!
URL:https://cwb.church/event/senior-lunch/2029-03-15/
LOCATION:Clearwater Baptist Church\, 220 N Main Street\, Piedmont\, MO\, 63957\, United States
ATTACH;FMTTYPE=image/jpeg:https://cwb.church/wp-content/uploads/2024/04/Senior-Lunch.jpg
END:VEVENT
BEGIN:VEVENT
DTSTART;TZID=America/New_York:20290320T183000
DTEND;TZID=America/New_York:20290320T193000
DTSTAMP:20260421T131716
CREATED:20240420T234113Z
LAST-MODIFIED:20240430T022514Z
UID:10000703-1868725800-1868729400@cwb.church
SUMMARY:Bible Study
DESCRIPTION:Clearwater Baptist Church invites you to join our Tuesday night Bible study. Whether you’re a seasoned believer or just starting your spiritual journey\, everyone is welcome to join us as.  We are currently exploring the book of Genesis\, chapter by chapter. \nAre you ready to dive deeper into God’s Word? Join us for thought-provoking discussions\, and let’s challenge ourselves to grow in our walk and relationship with the Lord. We hope to see you there!
URL:https://cwb.church/event/bible-study/2029-03-20/
LOCATION:Clearwater Baptist Church\, 220 N Main Street\, Piedmont\, MO\, 63957\, United States
ATTACH;FMTTYPE=image/jpeg:https://cwb.church/wp-content/uploads/2024/04/BIBLE-STUDY.jpg
END:VEVENT
BEGIN:VEVENT
DTSTART;TZID=America/New_York:20290327T183000
DTEND;TZID=America/New_York:20290327T193000
DTSTAMP:20260421T131717
CREATED:20240420T234113Z
LAST-MODIFIED:20240430T022514Z
UID:10000704-1869330600-1869334200@cwb.church
SUMMARY:Bible Study
DESCRIPTION:Clearwater Baptist Church invites you to join our Tuesday night Bible study. Whether you’re a seasoned believer or just starting your spiritual journey\, everyone is welcome to join us as.  We are currently exploring the book of Genesis\, chapter by chapter. \nAre you ready to dive deeper into God’s Word? Join us for thought-provoking discussions\, and let’s challenge ourselves to grow in our walk and relationship with the Lord. We hope to see you there!
URL:https://cwb.church/event/bible-study/2029-03-27/
LOCATION:Clearwater Baptist Church\, 220 N Main Street\, Piedmont\, MO\, 63957\, United States
ATTACH;FMTTYPE=image/jpeg:https://cwb.church/wp-content/uploads/2024/04/BIBLE-STUDY.jpg
END:VEVENT
BEGIN:VEVENT
DTSTART;TZID=America/New_York:20290331T070000
DTEND;TZID=America/New_York:20290331T080000
DTSTAMP:20260421T131717
CREATED:20240609T212051Z
LAST-MODIFIED:20240609T212458Z
UID:10000728-1869634800-1869638400@cwb.church
SUMMARY:Men's Prayer Breakfast
DESCRIPTION:Clearwater Baptist Church invites you to join us on the last Saturday of every month for our Men’s Prayer Breakfast. Whether you’re a member\, have never attended church\, or attend another church\, all are welcome! \nDon’t miss out on this opportunity for strong coffee\, a great breakfast\, fellowship\, and a time of prayer. We hop to see you there!
URL:https://cwb.church/event/mens-prayer-breakfast-2/2029-03-31/
LOCATION:Clearwater Baptist Church\, 220 N Main Street\, Piedmont\, MO\, 63957\, United States
ATTACH;FMTTYPE=image/jpeg:https://cwb.church/wp-content/uploads/2024/04/PRAYER-BREAKFAST.jpg
END:VEVENT
BEGIN:VEVENT
DTSTART;TZID=America/New_York:20290403T183000
DTEND;TZID=America/New_York:20290403T193000
DTSTAMP:20260421T131717
CREATED:20240420T234113Z
LAST-MODIFIED:20240430T022514Z
UID:10000705-1869935400-1869939000@cwb.church
SUMMARY:Bible Study
DESCRIPTION:Clearwater Baptist Church invites you to join our Tuesday night Bible study. Whether you’re a seasoned believer or just starting your spiritual journey\, everyone is welcome to join us as.  We are currently exploring the book of Genesis\, chapter by chapter. \nAre you ready to dive deeper into God’s Word? Join us for thought-provoking discussions\, and let’s challenge ourselves to grow in our walk and relationship with the Lord. We hope to see you there!
URL:https://cwb.church/event/bible-study/2029-04-03/
LOCATION:Clearwater Baptist Church\, 220 N Main Street\, Piedmont\, MO\, 63957\, United States
ATTACH;FMTTYPE=image/jpeg:https://cwb.church/wp-content/uploads/2024/04/BIBLE-STUDY.jpg
END:VEVENT
BEGIN:VEVENT
DTSTART;TZID=America/New_York:20290410T183000
DTEND;TZID=America/New_York:20290410T193000
DTSTAMP:20260421T131717
CREATED:20240420T234113Z
LAST-MODIFIED:20240430T022514Z
UID:10000706-1870540200-1870543800@cwb.church
SUMMARY:Bible Study
DESCRIPTION:Clearwater Baptist Church invites you to join our Tuesday night Bible study. Whether you’re a seasoned believer or just starting your spiritual journey\, everyone is welcome to join us as.  We are currently exploring the book of Genesis\, chapter by chapter. \nAre you ready to dive deeper into God’s Word? Join us for thought-provoking discussions\, and let’s challenge ourselves to grow in our walk and relationship with the Lord. We hope to see you there!
URL:https://cwb.church/event/bible-study/2029-04-10/
LOCATION:Clearwater Baptist Church\, 220 N Main Street\, Piedmont\, MO\, 63957\, United States
ATTACH;FMTTYPE=image/jpeg:https://cwb.church/wp-content/uploads/2024/04/BIBLE-STUDY.jpg
END:VEVENT
BEGIN:VEVENT
DTSTART;TZID=America/New_York:20290417T183000
DTEND;TZID=America/New_York:20290417T193000
DTSTAMP:20260421T131717
CREATED:20240420T234113Z
LAST-MODIFIED:20240430T022514Z
UID:10000707-1871145000-1871148600@cwb.church
SUMMARY:Bible Study
DESCRIPTION:Clearwater Baptist Church invites you to join our Tuesday night Bible study. Whether you’re a seasoned believer or just starting your spiritual journey\, everyone is welcome to join us as.  We are currently exploring the book of Genesis\, chapter by chapter. \nAre you ready to dive deeper into God’s Word? Join us for thought-provoking discussions\, and let’s challenge ourselves to grow in our walk and relationship with the Lord. We hope to see you there!
URL:https://cwb.church/event/bible-study/2029-04-17/
LOCATION:Clearwater Baptist Church\, 220 N Main Street\, Piedmont\, MO\, 63957\, United States
ATTACH;FMTTYPE=image/jpeg:https://cwb.church/wp-content/uploads/2024/04/BIBLE-STUDY.jpg
END:VEVENT
BEGIN:VEVENT
DTSTART;TZID=America/New_York:20290419T110000
DTEND;TZID=America/New_York:20290419T120000
DTSTAMP:20260421T131717
CREATED:20240421T025952Z
LAST-MODIFIED:20240811T174112Z
UID:10000186-1871290800-1871294400@cwb.church
SUMMARY:Senior Lunch
DESCRIPTION:Clearwater Baptist Church warmly invites all seniors to join us for a senior luncheon at our church. This special gathering promises not only great food\, but also a wonderful opportunity to connect and share in fellowship together. \nCome and enjoy the company of like-minded individuals. We welcome all\, so mark your calendars and be part of this occasion at Clearwater Baptist Church!
URL:https://cwb.church/event/senior-lunch/2029-04-19/
LOCATION:Clearwater Baptist Church\, 220 N Main Street\, Piedmont\, MO\, 63957\, United States
ATTACH;FMTTYPE=image/jpeg:https://cwb.church/wp-content/uploads/2024/04/Senior-Lunch.jpg
END:VEVENT
BEGIN:VEVENT
DTSTART;TZID=America/New_York:20290424T183000
DTEND;TZID=America/New_York:20290424T193000
DTSTAMP:20260421T131717
CREATED:20240420T234113Z
LAST-MODIFIED:20240430T022514Z
UID:10000708-1871749800-1871753400@cwb.church
SUMMARY:Bible Study
DESCRIPTION:Clearwater Baptist Church invites you to join our Tuesday night Bible study. Whether you’re a seasoned believer or just starting your spiritual journey\, everyone is welcome to join us as.  We are currently exploring the book of Genesis\, chapter by chapter. \nAre you ready to dive deeper into God’s Word? Join us for thought-provoking discussions\, and let’s challenge ourselves to grow in our walk and relationship with the Lord. We hope to see you there!
URL:https://cwb.church/event/bible-study/2029-04-24/
LOCATION:Clearwater Baptist Church\, 220 N Main Street\, Piedmont\, MO\, 63957\, United States
ATTACH;FMTTYPE=image/jpeg:https://cwb.church/wp-content/uploads/2024/04/BIBLE-STUDY.jpg
END:VEVENT
BEGIN:VEVENT
DTSTART;TZID=America/New_York:20290428T070000
DTEND;TZID=America/New_York:20290428T080000
DTSTAMP:20260421T131717
CREATED:20240609T212051Z
LAST-MODIFIED:20240609T212458Z
UID:10000766-1872054000-1872057600@cwb.church
SUMMARY:Men's Prayer Breakfast
DESCRIPTION:Clearwater Baptist Church invites you to join us on the last Saturday of every month for our Men’s Prayer Breakfast. Whether you’re a member\, have never attended church\, or attend another church\, all are welcome! \nDon’t miss out on this opportunity for strong coffee\, a great breakfast\, fellowship\, and a time of prayer. We hop to see you there!
URL:https://cwb.church/event/mens-prayer-breakfast-2/2029-04-28/
LOCATION:Clearwater Baptist Church\, 220 N Main Street\, Piedmont\, MO\, 63957\, United States
ATTACH;FMTTYPE=image/jpeg:https://cwb.church/wp-content/uploads/2024/04/PRAYER-BREAKFAST.jpg
END:VEVENT
BEGIN:VEVENT
DTSTART;TZID=America/New_York:20290517T110000
DTEND;TZID=America/New_York:20290517T120000
DTSTAMP:20260421T131717
CREATED:20240421T025952Z
LAST-MODIFIED:20240811T174112Z
UID:10000768-1873710000-1873713600@cwb.church
SUMMARY:Senior Lunch
DESCRIPTION:Clearwater Baptist Church warmly invites all seniors to join us for a senior luncheon at our church. This special gathering promises not only great food\, but also a wonderful opportunity to connect and share in fellowship together. \nCome and enjoy the company of like-minded individuals. We welcome all\, so mark your calendars and be part of this occasion at Clearwater Baptist Church!
URL:https://cwb.church/event/senior-lunch/2029-05-17/
LOCATION:Clearwater Baptist Church\, 220 N Main Street\, Piedmont\, MO\, 63957\, United States
ATTACH;FMTTYPE=image/jpeg:https://cwb.church/wp-content/uploads/2024/04/Senior-Lunch.jpg
END:VEVENT
BEGIN:VEVENT
DTSTART;TZID=America/New_York:20290526T070000
DTEND;TZID=America/New_York:20290526T080000
DTSTAMP:20260421T131717
CREATED:20240609T212051Z
LAST-MODIFIED:20240609T212458Z
UID:10000767-1874473200-1874476800@cwb.church
SUMMARY:Men's Prayer Breakfast
DESCRIPTION:Clearwater Baptist Church invites you to join us on the last Saturday of every month for our Men’s Prayer Breakfast. Whether you’re a member\, have never attended church\, or attend another church\, all are welcome! \nDon’t miss out on this opportunity for strong coffee\, a great breakfast\, fellowship\, and a time of prayer. We hop to see you there!
URL:https://cwb.church/event/mens-prayer-breakfast-2/2029-05-26/
LOCATION:Clearwater Baptist Church\, 220 N Main Street\, Piedmont\, MO\, 63957\, United States
ATTACH;FMTTYPE=image/jpeg:https://cwb.church/wp-content/uploads/2024/04/PRAYER-BREAKFAST.jpg
END:VEVENT
BEGIN:VEVENT
DTSTART;TZID=America/New_York:20290621T110000
DTEND;TZID=America/New_York:20290621T120000
DTSTAMP:20260421T131717
CREATED:20240421T025952Z
LAST-MODIFIED:20240811T174112Z
UID:10000769-1876734000-1876737600@cwb.church
SUMMARY:Senior Lunch
DESCRIPTION:Clearwater Baptist Church warmly invites all seniors to join us for a senior luncheon at our church. This special gathering promises not only great food\, but also a wonderful opportunity to connect and share in fellowship together. \nCome and enjoy the company of like-minded individuals. We welcome all\, so mark your calendars and be part of this occasion at Clearwater Baptist Church!
URL:https://cwb.church/event/senior-lunch/2029-06-21/
LOCATION:Clearwater Baptist Church\, 220 N Main Street\, Piedmont\, MO\, 63957\, United States
ATTACH;FMTTYPE=image/jpeg:https://cwb.church/wp-content/uploads/2024/04/Senior-Lunch.jpg
END:VEVENT
BEGIN:VEVENT
DTSTART;TZID=America/New_York:20290719T110000
DTEND;TZID=America/New_York:20290719T120000
DTSTAMP:20260421T131717
CREATED:20240421T025952Z
LAST-MODIFIED:20240811T174112Z
UID:10000770-1879153200-1879156800@cwb.church
SUMMARY:Senior Lunch
DESCRIPTION:Clearwater Baptist Church warmly invites all seniors to join us for a senior luncheon at our church. This special gathering promises not only great food\, but also a wonderful opportunity to connect and share in fellowship together. \nCome and enjoy the company of like-minded individuals. We welcome all\, so mark your calendars and be part of this occasion at Clearwater Baptist Church!
URL:https://cwb.church/event/senior-lunch/2029-07-19/
LOCATION:Clearwater Baptist Church\, 220 N Main Street\, Piedmont\, MO\, 63957\, United States
ATTACH;FMTTYPE=image/jpeg:https://cwb.church/wp-content/uploads/2024/04/Senior-Lunch.jpg
END:VEVENT
END:VCALENDAR