BEGIN:VCALENDAR
VERSION:2.0
PRODID:-//Clearwater Baptist Church - ECPv6.15.20//NONSGML v1.0//EN
CALSCALE:GREGORIAN
METHOD:PUBLISH
X-WR-CALNAME:Clearwater Baptist Church
X-ORIGINAL-URL:https://cwb.church
X-WR-CALDESC:Events for Clearwater Baptist Church
REFRESH-INTERVAL;VALUE=DURATION:PT1H
X-Robots-Tag:noindex
X-PUBLISHED-TTL:PT1H
BEGIN:VTIMEZONE
TZID:America/New_York
BEGIN:DAYLIGHT
TZOFFSETFROM:-0500
TZOFFSETTO:-0400
TZNAME:EDT
DTSTART:20230312T070000
END:DAYLIGHT
BEGIN:STANDARD
TZOFFSETFROM:-0400
TZOFFSETTO:-0500
TZNAME:EST
DTSTART:20231105T060000
END:STANDARD
BEGIN:DAYLIGHT
TZOFFSETFROM:-0500
TZOFFSETTO:-0400
TZNAME:EDT
DTSTART:20240310T070000
END:DAYLIGHT
BEGIN:STANDARD
TZOFFSETFROM:-0400
TZOFFSETTO:-0500
TZNAME:EST
DTSTART:20241103T060000
END:STANDARD
BEGIN:DAYLIGHT
TZOFFSETFROM:-0500
TZOFFSETTO:-0400
TZNAME:EDT
DTSTART:20250309T070000
END:DAYLIGHT
BEGIN:STANDARD
TZOFFSETFROM:-0400
TZOFFSETTO:-0500
TZNAME:EST
DTSTART:20251102T060000
END:STANDARD
END:VTIMEZONE
BEGIN:VEVENT
DTSTART;TZID=America/New_York:20240806T183000
DTEND;TZID=America/New_York:20240806T193000
DTSTAMP:20260420T011019
CREATED:20240420T234113Z
LAST-MODIFIED:20240430T022514Z
UID:10000462-1722969000-1722972600@cwb.church
SUMMARY:Bible Study
DESCRIPTION:Clearwater Baptist Church invites you to join our Tuesday night Bible study. Whether you’re a seasoned believer or just starting your spiritual journey\, everyone is welcome to join us as.  We are currently exploring the book of Genesis\, chapter by chapter. \nAre you ready to dive deeper into God’s Word? Join us for thought-provoking discussions\, and let’s challenge ourselves to grow in our walk and relationship with the Lord. We hope to see you there!
URL:https://cwb.church/event/bible-study/2024-08-06/
LOCATION:Clearwater Baptist Church\, 220 N Main Street\, Piedmont\, MO\, 63957\, United States
ATTACH;FMTTYPE=image/jpeg:https://cwb.church/wp-content/uploads/2024/04/BIBLE-STUDY.jpg
END:VEVENT
BEGIN:VEVENT
DTSTART;TZID=America/New_York:20240730T183000
DTEND;TZID=America/New_York:20240730T193000
DTSTAMP:20260420T011019
CREATED:20240420T234113Z
LAST-MODIFIED:20240430T022514Z
UID:10000461-1722364200-1722367800@cwb.church
SUMMARY:Bible Study
DESCRIPTION:Clearwater Baptist Church invites you to join our Tuesday night Bible study. Whether you’re a seasoned believer or just starting your spiritual journey\, everyone is welcome to join us as.  We are currently exploring the book of Genesis\, chapter by chapter. \nAre you ready to dive deeper into God’s Word? Join us for thought-provoking discussions\, and let’s challenge ourselves to grow in our walk and relationship with the Lord. We hope to see you there!
URL:https://cwb.church/event/bible-study/2024-07-30/
LOCATION:Clearwater Baptist Church\, 220 N Main Street\, Piedmont\, MO\, 63957\, United States
ATTACH;FMTTYPE=image/jpeg:https://cwb.church/wp-content/uploads/2024/04/BIBLE-STUDY.jpg
END:VEVENT
BEGIN:VEVENT
DTSTART;TZID=America/New_York:20240727T070000
DTEND;TZID=America/New_York:20240727T080000
DTSTAMP:20260420T011019
CREATED:20240609T212051Z
LAST-MODIFIED:20240609T212458Z
UID:10000729-1722063600-1722067200@cwb.church
SUMMARY:Men's Prayer Breakfast
DESCRIPTION:Clearwater Baptist Church invites you to join us on the last Saturday of every month for our Men’s Prayer Breakfast. Whether you’re a member\, have never attended church\, or attend another church\, all are welcome! \nDon’t miss out on this opportunity for strong coffee\, a great breakfast\, fellowship\, and a time of prayer. We hop to see you there!
URL:https://cwb.church/event/mens-prayer-breakfast-2/2024-07-27/
LOCATION:Clearwater Baptist Church\, 220 N Main Street\, Piedmont\, MO\, 63957\, United States
ATTACH;FMTTYPE=image/jpeg:https://cwb.church/wp-content/uploads/2024/04/PRAYER-BREAKFAST.jpg
END:VEVENT
BEGIN:VEVENT
DTSTART;TZID=America/New_York:20240723T183000
DTEND;TZID=America/New_York:20240723T193000
DTSTAMP:20260420T011019
CREATED:20240420T234113Z
LAST-MODIFIED:20240430T022514Z
UID:10000460-1721759400-1721763000@cwb.church
SUMMARY:Bible Study
DESCRIPTION:Clearwater Baptist Church invites you to join our Tuesday night Bible study. Whether you’re a seasoned believer or just starting your spiritual journey\, everyone is welcome to join us as.  We are currently exploring the book of Genesis\, chapter by chapter. \nAre you ready to dive deeper into God’s Word? Join us for thought-provoking discussions\, and let’s challenge ourselves to grow in our walk and relationship with the Lord. We hope to see you there!
URL:https://cwb.church/event/bible-study/2024-07-23/
LOCATION:Clearwater Baptist Church\, 220 N Main Street\, Piedmont\, MO\, 63957\, United States
ATTACH;FMTTYPE=image/jpeg:https://cwb.church/wp-content/uploads/2024/04/BIBLE-STUDY.jpg
END:VEVENT
BEGIN:VEVENT
DTSTART;TZID=America/New_York:20240718T110000
DTEND;TZID=America/New_York:20240718T120000
DTSTAMP:20260420T011019
CREATED:20240421T025952Z
LAST-MODIFIED:20240811T174112Z
UID:10000129-1721300400-1721304000@cwb.church
SUMMARY:Senior Lunch
DESCRIPTION:Clearwater Baptist Church warmly invites all seniors to join us for a senior luncheon at our church. This special gathering promises not only great food\, but also a wonderful opportunity to connect and share in fellowship together. \nCome and enjoy the company of like-minded individuals. We welcome all\, so mark your calendars and be part of this occasion at Clearwater Baptist Church!
URL:https://cwb.church/event/senior-lunch/2024-07-18/
LOCATION:Clearwater Baptist Church\, 220 N Main Street\, Piedmont\, MO\, 63957\, United States
ATTACH;FMTTYPE=image/jpeg:https://cwb.church/wp-content/uploads/2024/04/Senior-Lunch.jpg
END:VEVENT
BEGIN:VEVENT
DTSTART;TZID=America/New_York:20240716T183000
DTEND;TZID=America/New_York:20240716T193000
DTSTAMP:20260420T011019
CREATED:20240420T234113Z
LAST-MODIFIED:20240430T022514Z
UID:10000459-1721154600-1721158200@cwb.church
SUMMARY:Bible Study
DESCRIPTION:Clearwater Baptist Church invites you to join our Tuesday night Bible study. Whether you’re a seasoned believer or just starting your spiritual journey\, everyone is welcome to join us as.  We are currently exploring the book of Genesis\, chapter by chapter. \nAre you ready to dive deeper into God’s Word? Join us for thought-provoking discussions\, and let’s challenge ourselves to grow in our walk and relationship with the Lord. We hope to see you there!
URL:https://cwb.church/event/bible-study/2024-07-16/
LOCATION:Clearwater Baptist Church\, 220 N Main Street\, Piedmont\, MO\, 63957\, United States
ATTACH;FMTTYPE=image/jpeg:https://cwb.church/wp-content/uploads/2024/04/BIBLE-STUDY.jpg
END:VEVENT
BEGIN:VEVENT
DTSTART;TZID=America/New_York:20240709T183000
DTEND;TZID=America/New_York:20240709T193000
DTSTAMP:20260420T011019
CREATED:20240420T234113Z
LAST-MODIFIED:20240430T022514Z
UID:10000458-1720549800-1720553400@cwb.church
SUMMARY:Bible Study
DESCRIPTION:Clearwater Baptist Church invites you to join our Tuesday night Bible study. Whether you’re a seasoned believer or just starting your spiritual journey\, everyone is welcome to join us as.  We are currently exploring the book of Genesis\, chapter by chapter. \nAre you ready to dive deeper into God’s Word? Join us for thought-provoking discussions\, and let’s challenge ourselves to grow in our walk and relationship with the Lord. We hope to see you there!
URL:https://cwb.church/event/bible-study/2024-07-09/
LOCATION:Clearwater Baptist Church\, 220 N Main Street\, Piedmont\, MO\, 63957\, United States
ATTACH;FMTTYPE=image/jpeg:https://cwb.church/wp-content/uploads/2024/04/BIBLE-STUDY.jpg
END:VEVENT
BEGIN:VEVENT
DTSTART;TZID=America/New_York:20240702T183000
DTEND;TZID=America/New_York:20240702T193000
DTSTAMP:20260420T011019
CREATED:20240420T234113Z
LAST-MODIFIED:20240430T022514Z
UID:10000457-1719945000-1719948600@cwb.church
SUMMARY:Bible Study
DESCRIPTION:Clearwater Baptist Church invites you to join our Tuesday night Bible study. Whether you’re a seasoned believer or just starting your spiritual journey\, everyone is welcome to join us as.  We are currently exploring the book of Genesis\, chapter by chapter. \nAre you ready to dive deeper into God’s Word? Join us for thought-provoking discussions\, and let’s challenge ourselves to grow in our walk and relationship with the Lord. We hope to see you there!
URL:https://cwb.church/event/bible-study/2024-07-02/
LOCATION:Clearwater Baptist Church\, 220 N Main Street\, Piedmont\, MO\, 63957\, United States
ATTACH;FMTTYPE=image/jpeg:https://cwb.church/wp-content/uploads/2024/04/BIBLE-STUDY.jpg
END:VEVENT
BEGIN:VEVENT
DTSTART;TZID=America/New_York:20240629T070000
DTEND;TZID=America/New_York:20240629T080000
DTSTAMP:20260420T011019
CREATED:20240609T212051Z
LAST-MODIFIED:20240609T212458Z
UID:10000069-1719644400-1719648000@cwb.church
SUMMARY:Men's Prayer Breakfast
DESCRIPTION:Clearwater Baptist Church invites you to join us on the last Saturday of every month for our Men’s Prayer Breakfast. Whether you’re a member\, have never attended church\, or attend another church\, all are welcome! \nDon’t miss out on this opportunity for strong coffee\, a great breakfast\, fellowship\, and a time of prayer. We hop to see you there!
URL:https://cwb.church/event/mens-prayer-breakfast-2/2024-06-29/
LOCATION:Clearwater Baptist Church\, 220 N Main Street\, Piedmont\, MO\, 63957\, United States
ATTACH;FMTTYPE=image/jpeg:https://cwb.church/wp-content/uploads/2024/04/PRAYER-BREAKFAST.jpg
END:VEVENT
BEGIN:VEVENT
DTSTART;TZID=America/New_York:20240625T183000
DTEND;TZID=America/New_York:20240625T193000
DTSTAMP:20260420T011019
CREATED:20240420T234113Z
LAST-MODIFIED:20240430T022514Z
UID:10000456-1719340200-1719343800@cwb.church
SUMMARY:Bible Study
DESCRIPTION:Clearwater Baptist Church invites you to join our Tuesday night Bible study. Whether you’re a seasoned believer or just starting your spiritual journey\, everyone is welcome to join us as.  We are currently exploring the book of Genesis\, chapter by chapter. \nAre you ready to dive deeper into God’s Word? Join us for thought-provoking discussions\, and let’s challenge ourselves to grow in our walk and relationship with the Lord. We hope to see you there!
URL:https://cwb.church/event/bible-study/2024-06-25/
LOCATION:Clearwater Baptist Church\, 220 N Main Street\, Piedmont\, MO\, 63957\, United States
ATTACH;FMTTYPE=image/jpeg:https://cwb.church/wp-content/uploads/2024/04/BIBLE-STUDY.jpg
END:VEVENT
BEGIN:VEVENT
DTSTART;TZID=America/New_York:20240620T110000
DTEND;TZID=America/New_York:20240620T120000
DTSTAMP:20260420T011019
CREATED:20240421T025952Z
LAST-MODIFIED:20240811T174112Z
UID:10000128-1718881200-1718884800@cwb.church
SUMMARY:Senior Lunch
DESCRIPTION:Clearwater Baptist Church warmly invites all seniors to join us for a senior luncheon at our church. This special gathering promises not only great food\, but also a wonderful opportunity to connect and share in fellowship together. \nCome and enjoy the company of like-minded individuals. We welcome all\, so mark your calendars and be part of this occasion at Clearwater Baptist Church!
URL:https://cwb.church/event/senior-lunch/2024-06-20/
LOCATION:Clearwater Baptist Church\, 220 N Main Street\, Piedmont\, MO\, 63957\, United States
ATTACH;FMTTYPE=image/jpeg:https://cwb.church/wp-content/uploads/2024/04/Senior-Lunch.jpg
END:VEVENT
BEGIN:VEVENT
DTSTART;TZID=America/New_York:20240618T183000
DTEND;TZID=America/New_York:20240618T193000
DTSTAMP:20260420T011019
CREATED:20240420T234113Z
LAST-MODIFIED:20240430T022514Z
UID:10000455-1718735400-1718739000@cwb.church
SUMMARY:Bible Study
DESCRIPTION:Clearwater Baptist Church invites you to join our Tuesday night Bible study. Whether you’re a seasoned believer or just starting your spiritual journey\, everyone is welcome to join us as.  We are currently exploring the book of Genesis\, chapter by chapter. \nAre you ready to dive deeper into God’s Word? Join us for thought-provoking discussions\, and let’s challenge ourselves to grow in our walk and relationship with the Lord. We hope to see you there!
URL:https://cwb.church/event/bible-study/2024-06-18/
LOCATION:Clearwater Baptist Church\, 220 N Main Street\, Piedmont\, MO\, 63957\, United States
ATTACH;FMTTYPE=image/jpeg:https://cwb.church/wp-content/uploads/2024/04/BIBLE-STUDY.jpg
END:VEVENT
BEGIN:VEVENT
DTSTART;TZID=America/New_York:20240611T183000
DTEND;TZID=America/New_York:20240611T193000
DTSTAMP:20260420T011019
CREATED:20240420T234113Z
LAST-MODIFIED:20240430T022514Z
UID:10000454-1718130600-1718134200@cwb.church
SUMMARY:Bible Study
DESCRIPTION:Clearwater Baptist Church invites you to join our Tuesday night Bible study. Whether you’re a seasoned believer or just starting your spiritual journey\, everyone is welcome to join us as.  We are currently exploring the book of Genesis\, chapter by chapter. \nAre you ready to dive deeper into God’s Word? Join us for thought-provoking discussions\, and let’s challenge ourselves to grow in our walk and relationship with the Lord. We hope to see you there!
URL:https://cwb.church/event/bible-study/2024-06-11/
LOCATION:Clearwater Baptist Church\, 220 N Main Street\, Piedmont\, MO\, 63957\, United States
ATTACH;FMTTYPE=image/jpeg:https://cwb.church/wp-content/uploads/2024/04/BIBLE-STUDY.jpg
END:VEVENT
BEGIN:VEVENT
DTSTART;TZID=America/New_York:20240604T183000
DTEND;TZID=America/New_York:20240604T193000
DTSTAMP:20260420T011019
CREATED:20240420T234113Z
LAST-MODIFIED:20240430T022514Z
UID:10000453-1717525800-1717529400@cwb.church
SUMMARY:Bible Study
DESCRIPTION:Clearwater Baptist Church invites you to join our Tuesday night Bible study. Whether you’re a seasoned believer or just starting your spiritual journey\, everyone is welcome to join us as.  We are currently exploring the book of Genesis\, chapter by chapter. \nAre you ready to dive deeper into God’s Word? Join us for thought-provoking discussions\, and let’s challenge ourselves to grow in our walk and relationship with the Lord. We hope to see you there!
URL:https://cwb.church/event/bible-study/2024-06-04/
LOCATION:Clearwater Baptist Church\, 220 N Main Street\, Piedmont\, MO\, 63957\, United States
ATTACH;FMTTYPE=image/jpeg:https://cwb.church/wp-content/uploads/2024/04/BIBLE-STUDY.jpg
END:VEVENT
BEGIN:VEVENT
DTSTART;TZID=America/New_York:20240528T183000
DTEND;TZID=America/New_York:20240528T193000
DTSTAMP:20260420T011019
CREATED:20240420T234113Z
LAST-MODIFIED:20240430T022514Z
UID:10000452-1716921000-1716924600@cwb.church
SUMMARY:Bible Study
DESCRIPTION:Clearwater Baptist Church invites you to join our Tuesday night Bible study. Whether you’re a seasoned believer or just starting your spiritual journey\, everyone is welcome to join us as.  We are currently exploring the book of Genesis\, chapter by chapter. \nAre you ready to dive deeper into God’s Word? Join us for thought-provoking discussions\, and let’s challenge ourselves to grow in our walk and relationship with the Lord. We hope to see you there!
URL:https://cwb.church/event/bible-study/2024-05-28/
LOCATION:Clearwater Baptist Church\, 220 N Main Street\, Piedmont\, MO\, 63957\, United States
ATTACH;FMTTYPE=image/jpeg:https://cwb.church/wp-content/uploads/2024/04/BIBLE-STUDY.jpg
END:VEVENT
BEGIN:VEVENT
DTSTART;TZID=America/New_York:20240525T070000
DTEND;TZID=America/New_York:20240525T080000
DTSTAMP:20260420T011019
CREATED:20240420T235852Z
LAST-MODIFIED:20240430T010844Z
UID:10000068-1716620400-1716624000@cwb.church
SUMMARY:Men's Prayer Breakfast
DESCRIPTION:Clearwater Baptist Church invites you to join us on the last Saturday of every month for our Men’s Prayer Breakfast. Whether you’re a member\, have never attended church\, or attend another church\, all are welcome! \nDon’t miss out on this opportunity for strong coffee\, a great breakfast\, fellowship\, and a time of prayer. We hop to see you there!
URL:https://cwb.church/event/mens-prayer-breakfast/2024-05-25/
LOCATION:Clearwater Baptist Church\, 220 N Main Street\, Piedmont\, MO\, 63957\, United States
ATTACH;FMTTYPE=image/jpeg:https://cwb.church/wp-content/uploads/2024/04/PRAYER-BREAKFAST.jpg
END:VEVENT
BEGIN:VEVENT
DTSTART;TZID=America/New_York:20240521T183000
DTEND;TZID=America/New_York:20240521T193000
DTSTAMP:20260420T011019
CREATED:20240420T234113Z
LAST-MODIFIED:20240430T022514Z
UID:10000451-1716316200-1716319800@cwb.church
SUMMARY:Bible Study
DESCRIPTION:Clearwater Baptist Church invites you to join our Tuesday night Bible study. Whether you’re a seasoned believer or just starting your spiritual journey\, everyone is welcome to join us as.  We are currently exploring the book of Genesis\, chapter by chapter. \nAre you ready to dive deeper into God’s Word? Join us for thought-provoking discussions\, and let’s challenge ourselves to grow in our walk and relationship with the Lord. We hope to see you there!
URL:https://cwb.church/event/bible-study/2024-05-21/
LOCATION:Clearwater Baptist Church\, 220 N Main Street\, Piedmont\, MO\, 63957\, United States
ATTACH;FMTTYPE=image/jpeg:https://cwb.church/wp-content/uploads/2024/04/BIBLE-STUDY.jpg
END:VEVENT
BEGIN:VEVENT
DTSTART;TZID=America/New_York:20240516T110000
DTEND;TZID=America/New_York:20240516T120000
DTSTAMP:20260420T011019
CREATED:20240421T025952Z
LAST-MODIFIED:20240811T174112Z
UID:10000067-1715857200-1715860800@cwb.church
SUMMARY:Senior Lunch
DESCRIPTION:Clearwater Baptist Church warmly invites all seniors to join us for a senior luncheon at our church. This special gathering promises not only great food\, but also a wonderful opportunity to connect and share in fellowship together. \nCome and enjoy the company of like-minded individuals. We welcome all\, so mark your calendars and be part of this occasion at Clearwater Baptist Church!
URL:https://cwb.church/event/senior-lunch/2024-05-16/
LOCATION:Clearwater Baptist Church\, 220 N Main Street\, Piedmont\, MO\, 63957\, United States
ATTACH;FMTTYPE=image/jpeg:https://cwb.church/wp-content/uploads/2024/04/Senior-Lunch.jpg
END:VEVENT
BEGIN:VEVENT
DTSTART;TZID=America/New_York:20240514T183000
DTEND;TZID=America/New_York:20240514T193000
DTSTAMP:20260420T011019
CREATED:20240420T234113Z
LAST-MODIFIED:20240430T022514Z
UID:10000450-1715711400-1715715000@cwb.church
SUMMARY:Bible Study
DESCRIPTION:Clearwater Baptist Church invites you to join our Tuesday night Bible study. Whether you’re a seasoned believer or just starting your spiritual journey\, everyone is welcome to join us as.  We are currently exploring the book of Genesis\, chapter by chapter. \nAre you ready to dive deeper into God’s Word? Join us for thought-provoking discussions\, and let’s challenge ourselves to grow in our walk and relationship with the Lord. We hope to see you there!
URL:https://cwb.church/event/bible-study/2024-05-14/
LOCATION:Clearwater Baptist Church\, 220 N Main Street\, Piedmont\, MO\, 63957\, United States
ATTACH;FMTTYPE=image/jpeg:https://cwb.church/wp-content/uploads/2024/04/BIBLE-STUDY.jpg
END:VEVENT
BEGIN:VEVENT
DTSTART;TZID=America/New_York:20240507T183000
DTEND;TZID=America/New_York:20240507T193000
DTSTAMP:20260420T011019
CREATED:20240420T234113Z
LAST-MODIFIED:20240430T022514Z
UID:10000449-1715106600-1715110200@cwb.church
SUMMARY:Bible Study
DESCRIPTION:Clearwater Baptist Church invites you to join our Tuesday night Bible study. Whether you’re a seasoned believer or just starting your spiritual journey\, everyone is welcome to join us as.  We are currently exploring the book of Genesis\, chapter by chapter. \nAre you ready to dive deeper into God’s Word? Join us for thought-provoking discussions\, and let’s challenge ourselves to grow in our walk and relationship with the Lord. We hope to see you there!
URL:https://cwb.church/event/bible-study/2024-05-07/
LOCATION:Clearwater Baptist Church\, 220 N Main Street\, Piedmont\, MO\, 63957\, United States
ATTACH;FMTTYPE=image/jpeg:https://cwb.church/wp-content/uploads/2024/04/BIBLE-STUDY.jpg
END:VEVENT
BEGIN:VEVENT
DTSTART;TZID=America/New_York:20240430T183000
DTEND;TZID=America/New_York:20240430T193000
DTSTAMP:20260420T011019
CREATED:20240420T234113Z
LAST-MODIFIED:20240430T022514Z
UID:10000448-1714501800-1714505400@cwb.church
SUMMARY:Bible Study
DESCRIPTION:Clearwater Baptist Church invites you to join our Tuesday night Bible study. Whether you’re a seasoned believer or just starting your spiritual journey\, everyone is welcome to join us as.  We are currently exploring the book of Genesis\, chapter by chapter. \nAre you ready to dive deeper into God’s Word? Join us for thought-provoking discussions\, and let’s challenge ourselves to grow in our walk and relationship with the Lord. We hope to see you there!
URL:https://cwb.church/event/bible-study/2024-04-30/
LOCATION:Clearwater Baptist Church\, 220 N Main Street\, Piedmont\, MO\, 63957\, United States
ATTACH;FMTTYPE=image/jpeg:https://cwb.church/wp-content/uploads/2024/04/BIBLE-STUDY.jpg
END:VEVENT
BEGIN:VEVENT
DTSTART;TZID=America/New_York:20240427T070000
DTEND;TZID=America/New_York:20240427T080000
DTSTAMP:20260420T011019
CREATED:20240420T235852Z
LAST-MODIFIED:20240430T010844Z
UID:10000066-1714201200-1714204800@cwb.church
SUMMARY:Men's Prayer Breakfast
DESCRIPTION:Clearwater Baptist Church invites you to join us on the last Saturday of every month for our Men’s Prayer Breakfast. Whether you’re a member\, have never attended church\, or attend another church\, all are welcome! \nDon’t miss out on this opportunity for strong coffee\, a great breakfast\, fellowship\, and a time of prayer. We hop to see you there!
URL:https://cwb.church/event/mens-prayer-breakfast/2024-04-27/
LOCATION:Clearwater Baptist Church\, 220 N Main Street\, Piedmont\, MO\, 63957\, United States
ATTACH;FMTTYPE=image/jpeg:https://cwb.church/wp-content/uploads/2024/04/PRAYER-BREAKFAST.jpg
END:VEVENT
BEGIN:VEVENT
DTSTART;TZID=America/New_York:20240423T183000
DTEND;TZID=America/New_York:20240423T193000
DTSTAMP:20260420T011019
CREATED:20240420T234113Z
LAST-MODIFIED:20240430T022514Z
UID:10000065-1713897000-1713900600@cwb.church
SUMMARY:Bible Study
DESCRIPTION:Clearwater Baptist Church invites you to join our Tuesday night Bible study. Whether you’re a seasoned believer or just starting your spiritual journey\, everyone is welcome to join us as.  We are currently exploring the book of Genesis\, chapter by chapter. \nAre you ready to dive deeper into God’s Word? Join us for thought-provoking discussions\, and let’s challenge ourselves to grow in our walk and relationship with the Lord. We hope to see you there!
URL:https://cwb.church/event/bible-study/2024-04-23/
LOCATION:Clearwater Baptist Church\, 220 N Main Street\, Piedmont\, MO\, 63957\, United States
ATTACH;FMTTYPE=image/jpeg:https://cwb.church/wp-content/uploads/2024/04/BIBLE-STUDY.jpg
END:VEVENT
END:VCALENDAR